BEGIN:VCALENDAR
VERSION:2.0
PRODID:-//LMCC - ECPv6.15.20//NONSGML v1.0//EN
CALSCALE:GREGORIAN
METHOD:PUBLISH
X-ORIGINAL-URL:https://lmcc.net
X-WR-CALDESC:Events for LMCC
REFRESH-INTERVAL;VALUE=DURATION:PT1H
X-Robots-Tag:noindex
X-PUBLISHED-TTL:PT1H
BEGIN:VTIMEZONE
TZID:America/New_York
BEGIN:DAYLIGHT
TZOFFSETFROM:-0500
TZOFFSETTO:-0400
TZNAME:EDT
DTSTART:20240310T070000
END:DAYLIGHT
BEGIN:STANDARD
TZOFFSETFROM:-0400
TZOFFSETTO:-0500
TZNAME:EST
DTSTART:20241103T060000
END:STANDARD
BEGIN:DAYLIGHT
TZOFFSETFROM:-0500
TZOFFSETTO:-0400
TZNAME:EDT
DTSTART:20250309T070000
END:DAYLIGHT
BEGIN:STANDARD
TZOFFSETFROM:-0400
TZOFFSETTO:-0500
TZNAME:EST
DTSTART:20251102T060000
END:STANDARD
BEGIN:DAYLIGHT
TZOFFSETFROM:-0500
TZOFFSETTO:-0400
TZNAME:EDT
DTSTART:20260308T070000
END:DAYLIGHT
BEGIN:STANDARD
TZOFFSETFROM:-0400
TZOFFSETTO:-0500
TZNAME:EST
DTSTART:20261101T060000
END:STANDARD
END:VTIMEZONE
BEGIN:VEVENT
DTSTART;VALUE=DATE:20250607
DTEND;VALUE=DATE:20250608
DTSTAMP:20260421T111808
CREATED:20250602T182500Z
LAST-MODIFIED:20250602T182500Z
UID:10000166-1749254400-1749340799@lmcc.net
SUMMARY:House of a Thousand Flowers: Paper Flower-Making Workshops
DESCRIPTION:June 7\, 14\, 21\, 28 | 1-2:30pm\nat The Arts Center at Governors Island\, Studio A4 (Upper Level)\n \n\nLearn about the history of paper flower making and the symbolism and mythology surrounding flowers. Participants will learn to make unique paper flowers using punches\, colored paper\, watercolor paints\, and markers. Each workshop will introduce different flowers for crafting. Take your creations home or donate them to become an integral piece of Maison Millefleurs\, an illuminated public art piece\, presented by LMCC as part of the 2025 River To River Festival\, premiering this summer in Battery Park.  \nFree Paper Flower-Making Workshops will take place June 7\, June 14\, June 21\, and June 28 at 1pm-2:30pm in Studio A4 at The Arts Center at Governors Island. Click here to RSVP for any of the four workshops. \nAll materials are provided\, and all ages and skill levels are welcome. An adult must accompany children under 12. \n\nRhonda Weppler and Trevor Mahovsky\, based in New York and Toronto respectively\, have worked collaboratively since 2004. Their work has increasingly incorporated communal aspects of craft\, such as DIY tutorial videos\, and virtual crafting bees. Their video project Crafts Abyss was hosted by the Museum of Arts & Design (NYC\, 2021). Other recent activities include the Odette Sculpture Residency at York University (Toronto\, 2022)\, a major temporary outdoor work for OpenArt (Orebro\, Sweden\, 2022)\, as well as solo exhibitions at Susan Hobbs Gallery (Toronto\, 2023)\, The Arts Center at Governors Island (NYC\, 2023)\, Owens Art Gallery (Sackville\, 2024)\, and the Esker Foundation (Calgary\, 2024). Their work is represented in public collections including the Musee d’art Contemporain de Montreal\, Vancouver Art Gallery\, and the National Gallery of Canada.
URL:https://lmcc.net/events/house-of-a-thousand-flowers-paper-flower-making-workshops/
LOCATION:LMCC’s Arts Center at Governors Island\, Building 110\, Governors Island\, New York\, NY\, United States
CATEGORIES:Public Programs,River To River Festival
ATTACH;FMTTYPE=image/jpeg:https://lmcc.net/wp-content/uploads/2025/05/Flower-grid-scaled.jpg
END:VEVENT
BEGIN:VEVENT
DTSTART;VALUE=DATE:20250614
DTEND;VALUE=DATE:20250615
DTSTAMP:20260421T111808
CREATED:20250513T194150Z
LAST-MODIFIED:20250612T204755Z
UID:10000141-1749859200-1749945599@lmcc.net
SUMMARY:Riverkeeper's Fish Migration Celebration
DESCRIPTION:9:30am-12pm | Hudson River Park’s Pier 64\n \nOpen Entry | This event is free and open to all. Advance RSVP is encouraged\, but not required. Drop-ins are very welcome. \n\nJoin us on Saturday\, June 14\, for Riverkeeper’s first annual Fish Migration Celebration\, a fun and beautiful day where art and advocacy set sail together! A whimsical flotilla of artist-designed boats\, inspired by the fishes themselves\, will trace their path upriver\, turning the water into a moving masterpiece. And leading the way? A larger-than-life sturgeon-themed boat – a breathtaking tribute to one of the river’s most magnificent creatures.​​​​‌‍​‍​‍‌‍‌​‍‌‍‍‌‌‍‌‌‍‍‌‌‍‍​‍​‍​‍‍​‍​‍‌​‌‍​‌‌‍‍‌‍‍‌‌‌​‌‍‌​‍‍‌‍‍‌‌‍​‍​‍​‍​​‍​‍‌‍‍​‌​‍‌‍‌‌‌‍‌‍​‍​‍​‍‍​‍​‍‌‍‍​‌‌​‌‌​‌​​‌​​‍‍​‍​‍‌‍​‌‍‌‌​​‍‍‌‍‌‌‍​‌‌‍‍‌‌‍‍​‍‍​​‍​​​​​‍​‌​‌​‍‌‍‌‌‌‍‌​‌‍‌‌‌​‌‍‍‌‌‍‌‌‍‍​‍‍‌​‍‌‍‍‌‌‌‍‌‍‌‌‌​‍‌‍‍‌‍‌‌‌‍‌‌‌​​‌‍‌‌‌​‍​‍‍‌‍‌​‍‌‍‌​‍‌‍‍‌‌‍‍‌‌​‌‍‌‌‌‍‍‌‌​​‍‌‍‌‌‌‍‌​‌‍‍‌‌‌​​‍‌‍‌‌‍‌‍‌​‌‍‌‌​‌‌​​‌​‍‌‍‌‌‌​‌‍‌‌‌‍‍‌‌​‌‍​‌‌‌​‌‍‍‌‌‍‌‍‍​‍‌‍‍‌‌‍‌​​‌​‌​‌‍​​‍‌‍‌‍​​‍‌‍​​​‌​‍​​‍‌‌‍​‍‌‍​‍​​​‌‍‌​​‍‌​‌​‌‍‌​​‍​​‌‍​‍‌‌‍​‍‌‍​‍‌‍‌‍​​​‍‌‌‍​​‌​​‍‌‍‌​​‌​​‌‌​‍‌​‌​‌​​​​‌‍‌‍‌‍​​‍‌‌​‌‍‌‌​​‌‍‌‌​‌‌‍‌‌‌‌‍‌‍‌‌‌‍‍‌‌​​‍‌​​‌‍​‌‌‌​‌‍‍​​‌‌‍​‌‍‌‍‍‌‌​‌‍‌‌‌‍‍‌‌​​‍‌‌​‌‌‌​​‍‌‌‌‍‍‌‍‌‌‌‍‌​‍‌‌​​‌​‌​​‍‌‌​​‌​‌​​‍‌‌​​‍​​‍‌‍‌‍​​​‌‍‌‍​​‌​‌​​​​​‌‌​‌‌​​‌‍​‍​‌‌​​‌​‍‌‌​​‍​​‍​‍‌‌​‌‌‌​‌​​‍‍‌‍​‌‍‍​‌‍‍‌‌‍​‌‍‌​‌​‍‌‍‌‌‌‍‍​‍‌‌​‌‌‌​​‍‌‌‌‍‍‌‍‌‌‌‍‌​‍‌‌​​‌​‌​​‍‌‌​​‌​‌​​‍‌‌​​‍​​‍‌‍‌‌‌‍‌​​‌​‌‍‌‌​‌‍​​‌‌‍‌​​​‌‍​‍​​‌​‍‌​​‍​‍‌‌​​‍​​‍​‍‌‌​‌‌‌​‌​​‍‍‌‌​‌‍‌‌‌‍​‌‌​​‌‍​‍‌‍​‌‌​‌‍‌‌‌‌‌‌‌​‍‌‍​​‌‌‍‍​‌‌​‌‌​‌​​‌​​‍‌‌​​‌​​‌​‍‌‌​​‍‌​‌‍​‍‌‌​​‍‌​‌‍‌‍​‌‍‌‌​​‍‍‌‍‌‌‍​‌‌‍‍‌‌‍‍​‍‍​​‍​​​​​‍​‌​‌​‍‌‍‌‌‌‍‌​‌‍‌‌‌​‌‍‍‌‌‍‌‌‍‍​‍‍‌​‍‌‍‍‌‌‌‍‌‍‌‌‌​‍‌‍‍‌‍‌‌‌‍‌‌‌​​‌‍‌‌‌​‍​‍‍‌‍‌​‍‌‍‌​‍‌‍‌‍‍‌‌‍‌​​‌​‌​‌‍​​‍‌‍‌‍​​‍‌‍​​​‌​‍​​‍‌‌‍​‍‌‍​‍​​​‌‍‌​​‍‌​‌​‌‍‌​​‍​​‌‍​‍‌‌‍​‍‌‍​‍‌‍‌‍​​​‍‌‌‍​​‌​​‍‌‍‌​​‌​​‌‌​‍‌​‌​‌​​​​‌‍‌‍‌‍​​‍‌‍‌‌​‌‍‌‌​​‌‍‌‌​‌‌‍‌‌‌‌‍‌‍‌‌‌‍‍‌‌​​‍‌‍‌​​‌‍​‌‌‌​‌‍‍​​‌‌‍​‌‍‌‍‍‌‌​‌‍‌‌‌‍‍‌‌​​‍‌‌​‌‌‌​​‍‌‌‌‍‍‌‍‌‌‌‍‌​‍‌‌​​‌​‌​​‍‌‌​​‌​‌​​‍‌‌​​‍​​‍‌‍‌‍​​​‌‍‌‍​​‌​‌​​​​​‌‌​‌‌​​‌‍​‍​‌‌​​‌​‍‌‌​​‍​​‍​‍‌‌​‌‌‌​‌​​‍‍‌‍​‌‍‍​‌‍‍‌‌‍​‌‍‌​‌​‍‌‍‌‌‌‍‍​‍‌‌​‌‌‌​​‍‌‌‌‍‍‌‍‌‌‌‍‌​‍‌‌​​‌​‌​​‍‌‌​​‌​‌​​‍‌‌​​‍​​‍‌‍‌‌‌‍‌​​‌​‌‍‌‌​‌‍​​‌‌‍‌​​​‌‍​‍​​‌​‍‌​​‍​‍‌‌​​‍​​‍​‍‌‌​‌‌‌​‌​​‍‍‌‌​‌‍‌‌‌‍​‌‌​​‍‌‍‌​​‌‍‌‌‌​‍‌​‌​​‌‍‌‌‌‍​‌‌​‌‍‍‌‌‌‍‌‍‌‌​‌‌​​‌‌‌‌‍​‍‌‍​‌‍‍‌‌​‌‍‍​‌‍‌‌‌‍‌​​‍​‍‌‌ \nSuperhero Clubhouse’s Big Green Theater eco-playwriting program uplifts the imaginations of young people at the frontlines of the climate and environmental movement and brings their ideas to life on stage. 2025 is our third year collaborating with teenage students at the New York Harbor School\, a public high school on Governors Island. The focus of this year’s program is the amazing migratory fish of the Mahicantuck (Hudson River). Students are writing scripts with teaching artists Megan Paradis Hanley and Daniella de Jesus\, composing original songs with singer-songwriter Treya Lam\, and making fish puppets out of marine debris with puppeteer Gregory Corbino. Their work will be performed on May 14 at The Arts Center on Governors Island\, and included in Riverkeeper’s Fish Migration Celebration on June 14. \n\nRiverkeeper protects and restores the Hudson River from source to sea and safeguards drinking water supplies\, through advocacy rooted in community partnerships\, science and law. \nCollaborators: Rhiannon Catalyst / ‍‍‍‌‍‌‍‌‍‍‌‌‍‌‌‍‍‌‌‍‍‍‍‍‍‍‍‌‌‍‌‌‍‍‌‍‍‌‌‌‌‍‌‍‍‌‍‍‌‌‍‍‍‍‍‍‌‍‍‌‍‌‍‌‌‌‍‌‍‍‍‍‍‍‍‌‍‍‌‌‌‌‌‌‍‍‍‍‌‍‌‍‌‌‍‍‌‍‌‌‍‌‌‍‍‌‌‍‍‍‍‍‍‌‌‍‌‍‌‌‌‍‌‌‍‌‌‌‌‍‍‌‌‍‌‌‍‍‍‍‌‍‌‍‍‌‌‌‍‌‍‌‌‌‍‌‍‍‌‍‌‌‌‍‌‌‌‌‍‌‌‌‍‍‍‌‍‌‍‌‍‌‍‌‍‍‌‌‍‍‌‌‌‍‌‌‌‍‍‌‌‍‌‍‌‌‌‍‌‌‍‍‌‌‌‍‌‍‌‌‍‌‍‌‌‍‌‌‌‌‌‍‌‍‌‌‌‌‍‌‌‌‍‍‌‌‌‍‌‌‌‌‍‍‌‌‍‌‍‍‍‌‍‍‌‌‍‌‌‌‌‍‍‌‍‌‍‍‌‍‌‍‍‌‌‍‍‌‍‍‌‍‌‍‌‌‌‍‌‍‌‍‍‌‌‍‍‌‍‍‌‍‌‍‍‌‌‍‌‍‌‍‌‌‌‌‍‌‌‌‌‍‌‍‌‍‍‌‌‌‍‌‌‌‍‌‌‌‌‍‌‌‌‌‍‌‍‌‌‌‍‍‌‌‍‌‌‍‌‌‌‌‍‍‌‌‍‌‍‌‍‍‌‌‌‍‌‌‌‍‍‌‌‍‌‌‌‌‌‍‌‌‌‍‍‌‍‌‌‌‍‌‍‌‌‌‌‍‌‌‌‌‍‌‌‍‍‌‍‌‍‌‍‌‍‍‍‌‌‍‌‌‌‍‍‌‍‌‌‍‍‍‌‌‌‌‌‌‍‍‌‍‌‍‍‌‍‍‌‌‍‌‍‌‌‍‌‍‌‌‌‍‍‍‌‌‌‌‌‍‌‌‌‍‍‌‍‌‌‌‍‌‍‌‌‌‌‍‌‌‌‌‍‌‌‍‍‌‌‍‍‍‌‍‍‌‍‌‌‍‌‌‌‍‌‌‌‌‍‍‍‌‌‍‍‍‌‌‌‌‌‌‍‍‌‌‌‍‌‌‌‍‌‌‌‍‍‌‍‌‌‌‍‌‌‌‌‌‌‌‍‌‍‌‌‍‍‌‌‌‌‌‌‍‌‌‌‌‍‌‌‍‌‌‍‍‌‌‍‌‌‍‌‍‌‍‌‌‍‍‌‍‌‌‍‌‌‍‍‌‌‍‍‍‍‍‍‌‌‍‌‍‌‌‌‍‌‌‍‌‌‌‌‍‍‌‌‍‌‌‍‍‍‍‌‍‌‍‍‌‌‌‍‌‍‌‌‌‍‌‍‍‌‍‌‌‌‍‌‌‌‌‍‌‌‌‍‍‍‌‍‌‍‌‍‌‍‌‍‌‍‍‌‌‍‌‌‌‌‍‍‌‍‌‍‍‌‍‌‍‍‌‌‍‍‌‍‍‌‍‌‍‌‌‌‍‌‍‌‍‍‌‌‍‍‌‍‍‌‍‌‍‍‌‌‍‌‍‌‍‌‌‌‌‍‌‌‌‌‍‌‍‌‍‍‌‍‌‌‌‍‌‌‌‍‌‌‌‌‍‌‌‌‌‍‌‍‌‌‌‍‍‌‌‍‌‍‌‌‍‌‌‌‌‍‍‌‌‍‌‍‌‍‍‌‌‌‍‌‌‌‍‍‌‌‍‌‌‌‌‌‍‌‌‌‍‍‌‍‌‌‌‍‌‍‌‌‌‌‍‌‌‌‌‍‌‌‍‍‌‍‌‍‌‍‌‍‍‍‌‌‍‌‌‌‍‍‌‍‌‌‍‍‍‌‌‌‌‌‌‍‍‌‍‌‍‍‌‍‍‌‌‍‌‍‌‌‍‌‍‌‌‌‍‍‍‌‌‌‌‌‍‌‌‌‍‍‌‍‌‌‌‍‌‍‌‌‌‌‍‌‌‌‌‍‌‌‍‍‌‌‍‍‍‌‍‍‌‍‌‌‍‌‌‌‍‌‌‌‌‍‍‍‌‌‍‍‍‌‌‌‌‌‌‍‍‌‌‌‍‌‌‌‍‌‌‍‌‍‌‌‍‌‌‌‍‌‌‌‍‌‌‌‍‌‌‌‍‍‌‌‌‍‌‍‌‌‌‌‌‌‌‌‍‍‌‍‌‍‍‌‌‌‍‍‌‍‌‌‌‍‌‍‍‌‌Catalyst Culture Labs\, Greg Corbino‌\, ‍‍‍‌‍‌‍‌‍‍‌‌‍‌‌‍‍‌‌‍‍‍‍‍‍‍‍‌‌‍‌‌‍‍‌‍‍‌‌‌‌‍‌‍‍‌‍‍‌‌‍‍‍‍‍‍‌‍‍‌‍‌‍‌‌‌‍‌‍‍‍‍‍‍‍‌‍‍‌‌‌‌‌‌‍‍‍‍‌‍‌‍‌‌‍‍‌‍‌‌‍‌‌‍‍‌‌‍‍‍‍‍‍‌‌‍‌‍‌‌‌‍‌‌‍‌‌‌‌‍‍‌‌‍‌‌‍‍‍‍‌‍‌‍‍‌‌‌‍‌‍‌‌‌‍‌‍‍‌‍‌‌‌‍‌‌‌‌‍‌‌‌‍‍‍‌‍‌‍‌‍‌‍‌‍‍‌‌‍‍‌‌‌‍‌‌‌‍‍‌‌‍‌‍‌‌‌‍‌‌‍‍‌‌‌‍‌‍‌‌‍‌‍‌‌‍‌‌‌‌‌‍‌‍‌‌‌‌‍‌‌‌‍‍‌‌‌‍‌‌‌‌‍‍‌‌‍‌‍‍‍‌‍‍‌‌‍‌‌‌‌‍‍‌‍‌‍‍‌‍‌‍‍‌‌‍‍‌‍‍‌‍‌‍‌‌‌‍‌‍‌‍‍‌‌‍‍‌‍‍‌‍‌‍‍‌‌‍‌‍‌‍‌‌‌‌‍‌‌‌‌‍‌‍‌‍‍‌‌‌‍‌‌‌‍‌‌‌‌‍‌‌‌‌‍‌‍‌‌‌‍‍‌‌‍‌‌‍‌‌‌‌‍‍‌‌‍‌‍‌‍‍‌‌‌‍‌‌‌‍‍‌‌‍‌‌‌‌‌‍‌‌‌‍‍‌‍‌‌‌‍‌‍‌‌‌‌‍‌‌‌‌‍‌‌‍‍‌‍‌‍‍‌‍‌‍‌‌‍‌‍‌‌‌‍‌‌‌‍‌‍‌‌‍‍‌‌‍‍‍‌‌‌‌‌‌‍‍‌‍‌‍‍‌‍‍‌‌‍‌‍‌‌‍‌‍‌‌‌‍‍‍‌‌‌‌‌‍‌‌‌‍‍‌‍‌‌‌‍‌‍‌‌‌‌‍‌‌‌‌‍‌‌‍‍‍‌‌‍‍‌‍‌‍‌‍‍‌‌‍‌‌‍‌‌‍‌‍‍‌‌‍‌‌‍‍‍‌‌‌‌‌‌‍‍‌‌‌‍‌‌‌‍‌‌‌‍‍‌‍‌‌‌‍‌‌‌‌‌‌‌‍‌‍‌‌‍‍‌‌‌‌‌‌‍‌‌‌‌‍‌‌‍‌‌‍‍‌‌‍‌‌‍‌‍‌‍‌‌‍‍‌‍‌‌‍‌‌‍‍‌‌‍‍‍‍‍‍‌‌‍‌‍‌‌‌‍‌‌‍‌‌‌‌‍‍‌‌‍‌‌‍‍‍‍‌‍‌‍‍‌‌‌‍‌‍‌‌‌‍‌‍‍‌‍‌‌‌‍‌‌‌‌‍‌‌‌‍‍‍‌‍‌‍‌‍‌‍‌‍‌‍‍‌‌‍‌‌‌‌‍‍‌‍‌‍‍‌‍‌‍‍‌‌‍‍‌‍‍‌‍‌‍‌‌‌‍‌‍‌‍‍‌‌‍‍‌‍‍‌‍‌‍‍‌‌‍‌‍‌‍‌‌‌‌‍‌‌‌‌‍‌‍‌‍‍‌‍‌‌‌‍‌‌‌‍‌‌‌‌‍‌‌‌‌‍‌‍‌‌‌‍‍‌‌‍‌‍‌‌‍‌‌‌‌‍‍‌‌‍‌‍‌‍‍‌‌‌‍‌‌‌‍‍‌‌‍‌‌‌‌‌‍‌‌‌‍‍‌‍‌‌‌‍‌‍‌‌‌‌‍‌‌‌‌‍‌‌‍‍‌‍‌‍‍‌‍‌‍‌‌‍‌‍‌‌‌‍‌‌‌‍‌‍‌‌‍‍‌‌‍‍‍‌‌‌‌‌‌‍‍‌‍‌‍‍‌‍‍‌‌‍‌‍‌‌‍‌‍‌‌‌‍‍‍‌‌‌‌‌‍‌‌‌‍‍‌‍‌‌‌‍‌‍‌‌‌‌‍‌‌‌‌‍‌‌‍‍‍‌‌‍‍‌‍‌‍‌‍‍‌‌‍‌‌‍‌‌‍‌‍‍‌‌‍‌‌‍‍‍‌‌‌‌‌‌‍‍‌‌‌‍‌‌‌‍‌‌‍‌‍‌‌‍‌‌‌‍‌‌‌‍‌‌‌‍‌‌‌‍‍‌‌‌‍‌‍‌‌‌‌‌‌‌‌‍‍‌‍‌‍‍‌‌‌‍‍‌‍‌‌‌‍‌‍‍‌‌Heather Henson‌‍‍‍‌‍‌‍‌‍‍‌‌‍‌‌‍‍‌‌‍‍‍‍‍‍‍‍‌‌‍‌‌‍‍‌‍‍‌‌‌‌‍‌‍‍‌‍‍‌‌‍‍‍‍‍‍‌‍‍‌‍‌‍‌‌‌‍‌‍‍‍‍‍‍‍‌‍‍‌‌‌‌‌‌‍‍‍‍‌‍‌‍‌‌‍‍‌‍‌‌‍‌‌‍‍‌‌‍‍‍‍‍‍‌‌‍‌‍‌‌‌‍‌‌‍‌‌‌‌‍‍‌‌‍‌‌‍‍‍‍‌‍‌‍‍‌‌‌‍‌‍‌‌‌‍‌‍‍‌‍‌‌‌‍‌‌‌‌‍‌‌‌‍‍‍‌‍‌‍‌‍‌‍‌‍‍‌‌‍‍‌‌‌‍‌‌‌‍‍‌‌‍‌‍‌‌‌‍‌‌‍‍‌‌‌‍‌‍‌‌‍‌‍‌‌‍‌‌‌‌‌‍‌‍‌‌‌‌‍‌‌‌‍‍‌‌‌‍‌‌‌‌‍‍‌‌‍‌‍‍‍‌‍‍‌‌‍‌‌‌‌‍‍‌‍‌‍‍‌‍‌‍‍‌‌‍‍‌‍‍‌‍‌‍‌‌‌‍‌‍‌‍‍‌‌‍‍‌‍‍‌‍‌‍‍‌‌‍‌‍‌‍‌‌‌‌‍‌‌‌‌‍‌‍‌‍‍‌‌‌‍‌‌‌‍‌‌‌‌‍‌‌‌‌‍‌‍‌‌‌‍‍‌‌‍‌‌‍‌‌‌‌‍‍‌‌‍‌‍‌‍‍‌‌‌‍‌‌‌‍‍‌‌‍‌‌‌‌‌‍‌‌‌‍‍‌‍‌‌‌‍‌‍‌‌‌‌‍‌‌‌‌‍‌‌‍‍‌‍‌‌‍‌‍‌‍‌‌‍‌‍‌‍‌‌‍‌‍‌‌‌‍‌‌‍‌‌‍‌‍‍‌‌‍‍‍‌‌‌‌‌‌‍‍‌‍‌‍‍‌‍‍‌‌‍‌‍‌‌‍‌‍‌‌‌‍‍‍‌‌‌‌‌‍‌‌‌‍‍‌‍‌‌‌‍‌‍‌‌‌‌‍‌‌‌‌‍‌‌‍‍‍‌‌‍‌‌‌‍‌‍‍‌‍‌‌‍‌‌‌‌‌‌‍‌‌‍‍‍‌‌‌‌‌‌‍‍‌‌‌‍‌‌‌‍‌‌‌‍‍‌‍‌‌‌‍‌‌‌‌‌‌‌‍‌‍‌‌‍‍‌‌‌‌‌‌‍‌‌‌‌‍‌‌‍‌‌‍‍‌‌‍‌‌‍‌‍‌‍‌‌‍‍‌‍‌‌‍‌‌‍‍‌‌‍‍‍‍‍‍‌‌‍‌‍‌‌‌‍‌‌‍‌‌‌‌‍‍‌‌‍‌‌‍‍‍‍‌‍‌‍‍‌‌‌‍‌‍‌‌‌‍‌‍‍‌‍‌‌‌‍‌‌‌‌‍‌‌‌‍‍‍‌‍‌‍‌‍‌‍‌‍‌‍‍‌‌‍‌‌‌‌‍‍‌‍‌‍‍‌‍‌‍‍‌‌‍‍‌‍‍‌‍‌‍‌‌‌‍‌‍‌‍‍‌‌‍‍‌‍‍‌‍‌‍‍‌‌‍‌‍‌‍‌‌‌‌‍‌‌‌‌‍‌‍‌‍‍‌‍‌‌‌‍‌‌‌‍‌‌‌‌‍‌‌‌‌‍‌‍‌‌‌‍‍‌‌‍‌‍‌‌‍‌‌‌‌‍‍‌‌‍‌‍‌‍‍‌‌‌‍‌‌‌‍‍‌‌‍‌‌‌‌‌‍‌‌‌‍‍‌‍‌‌‌‍‌‍‌‌‌‌‍‌‌‌‌‍‌‌‍‍‌‍‌‌‍‌‍‌‍‌‌‍‌‍‌‍‌‌‍‌‍‌‌‌‍‌‌‍‌‌‍‌‍‍‌‌‍‍‍‌‌‌‌‌‌‍‍‌‍‌‍‍‌‍‍‌‌‍‌‍‌‌‍‌‍‌‌‌‍‍‍‌‌‌‌‌‍‌‌‌‍‍‌‍‌‌‌‍‌‍‌‌‌‌‍‌‌‌‌‍‌‌‍‍‍‌‌‍‌‌‌‍‌‍‍‌‍‌‌‍‌‌‌‌‌‌‍‌‌‍‍‍‌‌‌‌‌‌‍‍‌‌‌‍‌‌‌‍‌‌‍‌‍‌‌‍‌‌‌‍‌‌‌‍‌‌‌‍‌‌‌‍‍‌‌‌‍‌‍‌‌‌‌‌‌‌‌‍‍‌‍‌‍‍‌‌‌‍‍‌‍‌‌‌‍‌‍‍‌‌ / Green Feather Foundation\, The New York Harbor School\, treya lam\, Erwin Ong / A Duck Amuck\, illustrations\, Sleepy Hollow Project‌‍‍‍‌‍‌‍‌‍‍‌‌‍‌‌‍‍‌‌‍‍‍‍‍‍‍‍‌‌‍‌‌‍‍‌‍‍‌‌‌‌‍‌‍‍‌‍‍‌‌‍‍‍‍‍‍‌‍‍‌‍‌‍‌‌‌‍‌‍‍‍‍‍‍‍‌‍‍‌‌‌‌‌‌‍‍‍‍‌‍‌‍‌‌‍‍‌‍‌‌‍‌‌‍‍‌‌‍‍‍‍‍‍‌‌‍‌‍‌‌‌‍‌‌‍‌‌‌‌‍‍‌‌‍‌‌‍‍‍‍‌‍‌‍‍‌‌‌‍‌‍‌‌‌‍‌‍‍‌‍‌‌‌‍‌‌‌‌‍‌‌‌‍‍‍‌‍‌‍‌‍‌‍‌‍‍‌‌‍‍‌‌‌‍‌‌‌‍‍‌‌‍‌‍‌‌‌‍‌‌‍‍‌‌‌‍‌‍‌‌‍‌‍‌‌‍‌‌‌‌‌‍‌‍‌‌‌‌‍‌‌‌‍‍‌‌‌‍‌‌‌‌‍‍‌‌‍‌‍‍‍‌‍‍‌‌‍‌‌‌‌‍‍‌‍‌‍‍‌‍‌‍‍‌‌‍‍‌‍‍‌‍‌‍‌‌‌‍‌‍‌‍‍‌‌‍‍‌‍‍‌‍‌‍‍‌‌‍‌‍‌‍‌‌‌‌‍‌‌‌‌‍‌‍‌‍‍‌‌‌‍‌‌‌‍‌‌‌‌‍‌‌‌‌‍‌‍‌‌‌‍‍‌‌‍‌‌‍‌‌‌‌‍‍‌‌‍‌‍‌‍‍‌‌‌‍‌‌‌‍‍‌‌‍‌‌‌‌‌‍‌‌‌‍‍‌‍‌‌‌‍‌‍‌‌‌‌‍‌‌‌‌‍‌‌‍‍‌‌‍‌‍‌‍‌‍‌‍‍‌‍‌‌‌‍‌‍‌‍‌‍‌‍‌‍‌‌‍‌‌‍‍‍‌‌‌‌‌‌‍‍‌‍‌‍‍‌‍‍‌‌‍‌‍‌‌‍‌‍‌‌‌‍‍‍‌‌‌‌‌‍‌‌‌‍‍‌‍‌‌‌‍‌‍‌‌‌‌‍‌‌‌‌‍‌‌‍‍‌‍‌‌‍‍‌‌‍‌‍‌‍‌‍‌‍‌‍‍‌‌‍‍‍‌‌‌‌‌‌‍‍‌‌‌‍‌‌‌‍‌‌‌‍‍‌‍‌‌‌‍‌‌‌‌‌‌‌‍‌‍‌‌‍‍‌‌‌‌‌‌‍‌‌‌‌‍‌‌‍‌‌‍‍‌‌‍‌‌‍‌‍‌‍‌‌‍‍‌‍‌‌‍‌‌‍‍‌‌‍‍‍‍‍‍‌‌‍‌‍‌‌‌‍‌‌‍‌‌‌‌‍‍‌‌‍‌‌‍‍‍‍‌‍‌‍‍‌‌‌‍‌‍‌‌‌‍‌‍‍‌‍‌‌‌‍‌‌‌‌‍‌‌‌‍‍‍‌‍‌‍‌‍‌‍‌‍‌‍‍‌‌‍‌‌‌‌‍‍‌‍‌‍‍‌‍‌‍‍‌‌‍‍‌‍‍‌‍‌‍‌‌‌‍‌‍‌‍‍‌‌‍‍‌‍‍‌‍‌‍‍‌‌‍‌‍‌‍‌‌‌‌‍‌‌‌‌‍‌‍‌‍‍‌‍‌‌‌‍‌‌‌‍‌‌‌‌‍‌‌‌‌‍‌‍‌‌‌‍‍‌‌‍‌‍‌‌‍‌‌‌‌‍‍‌‌‍‌‍‌‍‍‌‌‌‍‌‌‌‍‍‌‌‍‌‌‌‌‌‍‌‌‌‍‍‌‍‌‌‌‍‌‍‌‌‌‌‍‌‌‌‌‍‌‌‍‍‌‌‍‌‍‌‍‌‍‌‍‍‌‍‌‌‌‍‌‍‌‍‌‍‌‍‌‍‌‌‍‌‌‍‍‍‌‌‌‌‌‌‍‍‌‍‌‍‍‌‍‍‌‌‍‌‍‌‌‍‌‍‌‌‌‍‍‍‌‌‌‌‌‍‌‌‌‍‍‌‍‌‌‌‍‌‍‌‌‌‌‍‌‌‌‌‍‌‌‍‍‌‍‌‌‍‍‌‌‍‌‍‌‍‌‍‌‍‌‍‍‌‌‍‍‍‌‌‌‌‌‌‍‍‌‌‌‍‌‌‌‍‌‌‍‌‍‌‌‍‌‌‌‍‌‌‌‍‌‌‌‍‌‌‌‍‍‌‌‌‍‌‍‌‌‌‌‌‌‌‌‍‍‌‍‌‍‍‌‌‌‍‍‌‍‌‌‌‍‌‍‍‌‌ (Gina Carey\, Megan Isenstadt\, Fay Serafica)\, Superhero Clubhouse\, Big Green Theater program \nSupport provided by Green Feather Foundation\, NY State Council for the Arts\, Partners for Climate Action Hudson Valley\, and Catalyst Culture Labs. \n 
URL:https://lmcc.net/events/riverkeepers-fish-migration-celebration/
LOCATION:Hudson River Park\, Pier 64\, 163 12th Avenue\, New York\, NY\, 10011\, United States
CATEGORIES:Public Programs,River To River Festival
ATTACH;FMTTYPE=image/jpeg:https://lmcc.net/wp-content/uploads/2025/05/DSC8515-1-Adam-Thomas-scaled.jpg
END:VEVENT
BEGIN:VEVENT
DTSTART;VALUE=DATE:20250614
DTEND;VALUE=DATE:20250615
DTSTAMP:20260421T111808
CREATED:20250602T181058Z
LAST-MODIFIED:20250602T181447Z
UID:10000163-1749859200-1749945599@lmcc.net
SUMMARY:House of a Thousand Flowers: Paper Flower-Making Workshops
DESCRIPTION:June 7\, 14\, 21\, 28 | 1-2:30pm\nat The Arts Center at Governors Island\, Studio A4 (Upper Level)\n \n\nLearn about the history of paper flower making and the symbolism and mythology surrounding flowers. Participants will learn to make unique paper flowers using punches\, colored paper\, watercolor paints\, and markers. Each workshop will introduce different flowers for crafting. Take your creations home or donate them to become an integral piece of Maison Millefleurs\, an illuminated public art piece\, presented by LMCC as part of the 2025 River To River Festival\, premiering this summer in Battery Park.  \nFree Paper Flower-Making Workshops will take place June 7\, June 14\, June 21\, and June 28 at 1pm-2:30pm in Studio A4 at The Arts Center at Governors Island. Click here to RSVP for any of the four workshops. \nAll materials are provided\, and all ages and skill levels are welcome. An adult must accompany children under 12. \n\nRhonda Weppler and Trevor Mahovsky\, based in New York and Toronto respectively\, have worked collaboratively since 2004. Their work has increasingly incorporated communal aspects of craft\, such as DIY tutorial videos\, and virtual crafting bees. Their video project Crafts Abyss was hosted by the Museum of Arts & Design (NYC\, 2021). Other recent activities include the Odette Sculpture Residency at York University (Toronto\, 2022)\, a major temporary outdoor work for OpenArt (Orebro\, Sweden\, 2022)\, as well as solo exhibitions at Susan Hobbs Gallery (Toronto\, 2023)\, The Arts Center at Governors Island (NYC\, 2023)\, Owens Art Gallery (Sackville\, 2024)\, and the Esker Foundation (Calgary\, 2024). Their work is represented in public collections including the Musee d’art Contemporain de Montreal\, Vancouver Art Gallery\, and the National Gallery of Canada.
URL:https://lmcc.net/events/house-of-a-thousand-flowers-paper-flower-making-workshops-2/
LOCATION:The Arts Center at Governors Island\, Studio A4\, 110 Andes Road\, New York\, NY\, 10004\, United States
CATEGORIES:Public Programs,River To River Festival
ATTACH;FMTTYPE=image/jpeg:https://lmcc.net/wp-content/uploads/2025/05/Flower-grid-scaled.jpg
END:VEVENT
BEGIN:VEVENT
DTSTART;VALUE=DATE:20250621
DTEND;VALUE=DATE:20250622
DTSTAMP:20260421T111808
CREATED:20250602T181624Z
LAST-MODIFIED:20250602T181624Z
UID:10000164-1750464000-1750550399@lmcc.net
SUMMARY:House of a Thousand Flowers: Paper Flower-Making Workshops
DESCRIPTION:June 7\, 14\, 21\, 28 | 1-2:30pm\nat The Arts Center at Governors Island\, Studio A4 (Upper Level)\n \n\nLearn about the history of paper flower making and the symbolism and mythology surrounding flowers. Participants will learn to make unique paper flowers using punches\, colored paper\, watercolor paints\, and markers. Each workshop will introduce different flowers for crafting. Take your creations home or donate them to become an integral piece of Maison Millefleurs\, an illuminated public art piece\, presented by LMCC as part of the 2025 River To River Festival\, premiering this summer in Battery Park.  \nFree Paper Flower-Making Workshops will take place June 7\, June 14\, June 21\, and June 28 at 1pm-2:30pm in Studio A4 at The Arts Center at Governors Island. Click here to RSVP for any of the four workshops. \nAll materials are provided\, and all ages and skill levels are welcome. An adult must accompany children under 12. \n\nRhonda Weppler and Trevor Mahovsky\, based in New York and Toronto respectively\, have worked collaboratively since 2004. Their work has increasingly incorporated communal aspects of craft\, such as DIY tutorial videos\, and virtual crafting bees. Their video project Crafts Abyss was hosted by the Museum of Arts & Design (NYC\, 2021). Other recent activities include the Odette Sculpture Residency at York University (Toronto\, 2022)\, a major temporary outdoor work for OpenArt (Orebro\, Sweden\, 2022)\, as well as solo exhibitions at Susan Hobbs Gallery (Toronto\, 2023)\, The Arts Center at Governors Island (NYC\, 2023)\, Owens Art Gallery (Sackville\, 2024)\, and the Esker Foundation (Calgary\, 2024). Their work is represented in public collections including the Musee d’art Contemporain de Montreal\, Vancouver Art Gallery\, and the National Gallery of Canada.
URL:https://lmcc.net/events/house-of-a-thousand-flowers-paper-flower-making-workshops-3/
LOCATION:The Arts Center at Governors Island\, Studio A4\, 110 Andes Road\, New York\, NY\, 10004\, United States
CATEGORIES:Public Programs,River To River Festival
ATTACH;FMTTYPE=image/jpeg:https://lmcc.net/wp-content/uploads/2025/05/Flower-grid-scaled.jpg
END:VEVENT
BEGIN:VEVENT
DTSTART;VALUE=DATE:20250628
DTEND;VALUE=DATE:20250629
DTSTAMP:20260421T111808
CREATED:20250602T181816Z
LAST-MODIFIED:20250602T181914Z
UID:10000165-1751068800-1751155199@lmcc.net
SUMMARY:House of a Thousand Flowers: Paper Flower-Making Workshops
DESCRIPTION:Learn about the history of paper flower making and the symbolism and mythology surrounding flowers. Participants will learn to make unique paper flowers using punches\, colored paper\, watercolor paints\, and markers. Each workshop will introduce different flowers for crafting. Take your creations home or donate them to become an integral piece of Maison Millefleurs\, an illuminated public art piece\, presented by LMCC as part of the 2025 River To River Festival\, premiering this summer in Battery Park.  \nFree Paper Flower-Making Workshops will take place June 7\, June 14\, June 21\, and June 28 at 1pm-2:30pm in Studio A4 at The Arts Center at Governors Island. Click here to RSVP for any of the four workshops. \nAll materials are provided\, and all ages and skill levels are welcome. An adult must accompany children under 12. \n\nRhonda Weppler and Trevor Mahovsky\, based in New York and Toronto respectively\, have worked collaboratively since 2004. Their work has increasingly incorporated communal aspects of craft\, such as DIY tutorial videos\, and virtual crafting bees. Their video project Crafts Abyss was hosted by the Museum of Arts & Design (NYC\, 2021). Other recent activities include the Odette Sculpture Residency at York University (Toronto\, 2022)\, a major temporary outdoor work for OpenArt (Orebro\, Sweden\, 2022)\, as well as solo exhibitions at Susan Hobbs Gallery (Toronto\, 2023)\, The Arts Center at Governors Island (NYC\, 2023)\, Owens Art Gallery (Sackville\, 2024)\, and the Esker Foundation (Calgary\, 2024). Their work is represented in public collections including the Musee d’art Contemporain de Montreal\, Vancouver Art Gallery\, and the National Gallery of Canada.
URL:https://lmcc.net/events/house-of-a-thousand-flowers-paper-flower-making-workshops-4/
LOCATION:The Arts Center at Governors Island\, Studio A4\, 110 Andes Road\, New York\, NY\, 10004\, United States
CATEGORIES:Public Programs,River To River Festival
ATTACH;FMTTYPE=image/jpeg:https://lmcc.net/wp-content/uploads/2025/05/Flower-grid-scaled.jpg
END:VEVENT
END:VCALENDAR